BEGIN:VCALENDAR
VERSION:2.0
PRODID:Ação de Sensibilização: Queimas e Queimadas / Vespa Asiática
X-WR-CALNAME:Ação de Sensibilização: Queimas e Queimadas / Vespa Asiát
 ica
X-WR-TIMEZONE:Europe/Lisbon
X-PUBLISHED-TTL:P1W
BEGIN:VTIMEZONE
TZID:Europe/Lisbon
X-LIC-LOCATION:Europe/Lisbon
END:VTIMEZONE
BEGIN:VEVENT
UID:69e527569d891
DTSTART;VALUE=DATE:20260314
SEQUENCE:0
TRANSP:OPAQUE
DTEND;VALUE=DATE:20260315
SUMMARY:Ação de Sensibilização: Queimas e Queimadas / Vespa Asiática
CLASS:PUBLIC
DESCRIPTION:Ação de Sensibilização: Queimas e Queimadas / Vespas Asiát
 icas
X-MICROSOFT-CDO-ALLDAYEVENT:TRUE
DTSTAMP:20260419T190454Z
END:VEVENT
END:VCALENDAR