BEGIN:VCALENDAR
VERSION:2.0
PRODID:Dia do Pai
X-WR-CALNAME:Dia do Pai
X-WR-TIMEZONE:Europe/Lisbon
X-PUBLISHED-TTL:P1W
BEGIN:VTIMEZONE
TZID:Europe/Lisbon
X-LIC-LOCATION:Europe/Lisbon
END:VTIMEZONE
BEGIN:VEVENT
UID:69e9fcb071118
DTSTART;VALUE=DATE:20260321
SEQUENCE:0
TRANSP:OPAQUE
DTEND;VALUE=DATE:20260322
SUMMARY:Dia do Pai
CLASS:PUBLIC
DESCRIPTION:Um dia dedicado aos Pais e aos filhos!Um dia de celebração a 
 todos os Pais da Freguesia
X-MICROSOFT-CDO-ALLDAYEVENT:TRUE
DTSTAMP:20260423T110416Z
END:VEVENT
END:VCALENDAR